BEGIN:VCALENDAR
VERSION:2.0
PRODID:-//Centro de Estudios Jurídicos y Ambientales - ECPv6.11.1//NONSGML v1.0//EN
CALSCALE:GREGORIAN
METHOD:PUBLISH
X-WR-CALNAME:Centro de Estudios Jurídicos y Ambientales
X-ORIGINAL-URL:https://ceja.org.mx
X-WR-CALDESC:Eventos para Centro de Estudios Jurídicos y Ambientales
REFRESH-INTERVAL;VALUE=DURATION:PT1H
X-Robots-Tag:noindex
X-PUBLISHED-TTL:PT1H
BEGIN:VTIMEZONE
TZID:America/Mexico_City
BEGIN:STANDARD
TZOFFSETFROM:-0600
TZOFFSETTO:-0600
TZNAME:CST
DTSTART:20250101T000000
END:STANDARD
END:VTIMEZONE
BEGIN:VEVENT
DTSTART;TZID=America/Mexico_City:20250808T160000
DTEND;TZID=America/Mexico_City:20251121T200000
DTSTAMP:20260422T061823
CREATED:20250425T230239Z
LAST-MODIFIED:20250612T192420Z
UID:2106-1754668800-1763755200@ceja.org.mx
SUMMARY:Diplomado en Derecho Ambiental y Gestión Sustentable XXX Edición
DESCRIPTION:DDAyGS_XXX-con-programa-preliminar-2MAY25
URL:https://ceja.org.mx/event/2106/
LOCATION:Facultad de Ciencias de la UNAM\, CDMX\, Mexico
END:VEVENT
BEGIN:VEVENT
DTSTART;TZID=America/Mexico_City:20251110T090000
DTEND;TZID=America/Mexico_City:20251113T130000
DTSTAMP:20260422T061823
CREATED:20250516T231509Z
LAST-MODIFIED:20251014T041707Z
UID:2209-1762765200-1763038800@ceja.org.mx
SUMMARY:Curso Evaluación de Impacto Social en la Normativa Mexicana
DESCRIPTION:
URL:https://ceja.org.mx/event/curso-evis/
END:VEVENT
BEGIN:VEVENT
DTSTART;TZID=America/Mexico_City:20251118T090000
DTEND;TZID=America/Mexico_City:20251121T150000
DTSTAMP:20260422T061823
CREATED:20250926T160258Z
LAST-MODIFIED:20250926T203649Z
UID:2431-1763456400-1763737200@ceja.org.mx
SUMMARY:Curso de Remediación de Sitios Contaminados por Hidrocarburos
DESCRIPTION:Curso de Remediación de Sitios Contaminados por Hidrocarburos
URL:https://ceja.org.mx/event/curso-remediacion/
END:VEVENT
END:VCALENDAR